BEGIN:VCALENDAR
VERSION:2.0
PRODID:-//jEvents 2.0 for Joomla//EN
CALSCALE:GREGORIAN
METHOD:PUBLISH
BEGIN:VTIMEZONE
TZID:Europe/Berlin
END:VTIMEZONE
BEGIN:VEVENT
UID:3f8d8f102a9af5b70a8da697e35ecd18
CATEGORIES:TA I
CREATED:20260404T222847
SUMMARY:Wahlloge BDV u. Loge (u. .a. Wahl des BDV- Schatzmeisters u. der Beamten)
DESCRIPTION:
DTSTAMP:20260424T082746
DTSTART;TZID=Europe/Berlin:20260522T200000
SEQUENCE:0
TRANSP:OPAQUE
END:VEVENT
END:VCALENDAR